BEGIN:VCALENDAR
VERSION:2.0
PRODID:-//Namur Institute For Complex Systems - ECPv6.15.20//NONSGML v1.0//EN
CALSCALE:GREGORIAN
METHOD:PUBLISH
X-WR-CALNAME:Namur Institute For Complex Systems
X-ORIGINAL-URL:https://www.naxys.be
X-WR-CALDESC:Events for Namur Institute For Complex Systems
REFRESH-INTERVAL;VALUE=DURATION:PT1H
X-Robots-Tag:noindex
X-PUBLISHED-TTL:PT1H
BEGIN:VTIMEZONE
TZID:Europe/Brussels
BEGIN:DAYLIGHT
TZOFFSETFROM:+0100
TZOFFSETTO:+0200
TZNAME:CEST
DTSTART:20210328T010000
END:DAYLIGHT
BEGIN:STANDARD
TZOFFSETFROM:+0200
TZOFFSETTO:+0100
TZNAME:CET
DTSTART:20211031T010000
END:STANDARD
BEGIN:DAYLIGHT
TZOFFSETFROM:+0100
TZOFFSETTO:+0200
TZNAME:CEST
DTSTART:20220327T010000
END:DAYLIGHT
BEGIN:STANDARD
TZOFFSETFROM:+0200
TZOFFSETTO:+0100
TZNAME:CET
DTSTART:20221030T010000
END:STANDARD
BEGIN:DAYLIGHT
TZOFFSETFROM:+0100
TZOFFSETTO:+0200
TZNAME:CEST
DTSTART:20230326T010000
END:DAYLIGHT
BEGIN:STANDARD
TZOFFSETFROM:+0200
TZOFFSETTO:+0100
TZNAME:CET
DTSTART:20231029T010000
END:STANDARD
END:VTIMEZONE
BEGIN:VEVENT
DTSTART;TZID=Europe/Brussels:20220407T130000
DTEND;TZID=Europe/Brussels:20220407T140000
DTSTAMP:20260422T064410
CREATED:20220217T091156Z
LAST-MODIFIED:20221114T100358Z
UID:1599-1649336400-1649340000@www.naxys.be
SUMMARY:Alessio Franci (Universidad Nacional Autónoma de México\, México)
DESCRIPTION:Title: DECISION FROM INDECISION IN MULTI-AGENT MULTI-OPTION DYNAMICS \nHow does a group of agents break indecision about a set of options? Many biological and artificial multi-agent systems\, from honeybees and bird flocks to bacteria and humans\, face indecision when choosing between options in situations in which the fitness or even the survival of the group is at stake. Here\, we develop a mathematical theory to study decision from indecision. Our approach is grounded in network bifurcation theory. We model decision from indecision as synchrony-breaking in influence networks in which each node is the value assigned by an agent to an option. We show that there are three generic types of value patterns emerging at synchrony-breaking bifurcations for influence networks: deadlock\, consensus\, dissensus. Deadlock and consensus value patterns are predicted by the symmetry of the influence networks. Conversely\, we show that there are many “exotic” dissensus value patterns; that is\, patterns that are not predicted by network symmetries\, but are predicted by network architecture. Numerical simulations of a novel influence network model illustrate our theoretical results. \n\nThis is a joint work with Martin Golubitsky\, Ian Stewart\, Anastasia Bizyaeva\, and Naomi E. Leonard.\n\n\nThe seminar will take place in room S08 at the Faculty of Sciences
URL:https://www.naxys.be/event/alessio-franci-universidad-nacional-autonoma-de-mexico/
CATEGORIES:NAXYS Seminar
END:VEVENT
END:VCALENDAR