BEGIN:VCALENDAR
VERSION:2.0
PRODID:-//Namur Institute For Complex Systems - ECPv6.15.20//NONSGML v1.0//EN
CALSCALE:GREGORIAN
METHOD:PUBLISH
X-WR-CALNAME:Namur Institute For Complex Systems
X-ORIGINAL-URL:https://www.naxys.be
X-WR-CALDESC:Events for Namur Institute For Complex Systems
REFRESH-INTERVAL;VALUE=DURATION:PT1H
X-Robots-Tag:noindex
X-PUBLISHED-TTL:PT1H
BEGIN:VTIMEZONE
TZID:Europe/Paris
BEGIN:DAYLIGHT
TZOFFSETFROM:+0100
TZOFFSETTO:+0200
TZNAME:CEST
DTSTART:20170326T010000
END:DAYLIGHT
BEGIN:STANDARD
TZOFFSETFROM:+0200
TZOFFSETTO:+0100
TZNAME:CET
DTSTART:20171029T010000
END:STANDARD
BEGIN:DAYLIGHT
TZOFFSETFROM:+0100
TZOFFSETTO:+0200
TZNAME:CEST
DTSTART:20180325T010000
END:DAYLIGHT
BEGIN:STANDARD
TZOFFSETFROM:+0200
TZOFFSETTO:+0100
TZNAME:CET
DTSTART:20181028T010000
END:STANDARD
BEGIN:DAYLIGHT
TZOFFSETFROM:+0100
TZOFFSETTO:+0200
TZNAME:CEST
DTSTART:20190331T010000
END:DAYLIGHT
BEGIN:STANDARD
TZOFFSETFROM:+0200
TZOFFSETTO:+0100
TZNAME:CET
DTSTART:20191027T010000
END:STANDARD
END:VTIMEZONE
BEGIN:VEVENT
DTSTART;TZID=Europe/Paris:20181206T130000
DTEND;TZID=Europe/Paris:20181206T140000
DTSTAMP:20260424T183627
CREATED:20181016T113010Z
LAST-MODIFIED:20181207T091454Z
UID:491-1544101200-1544104800@www.naxys.be
SUMMARY:Thomas Parmentier (UGhent)
DESCRIPTION:Title: Ants and their associates as a model system to test host-symbiont network dynamics \nAbstract: An extremely large number of organisms engage in symbiotic relationships with ants. Interestingly\, these relationships are highly variable in terms of host-specificity and span the entire mutualism-antagonism continuum. In this talk\, we present different types of network analyses focusing on ant-symbiont interactions. We argue that ant-symbiont communities are highly suitable to test a wide range of network hypotheses in terrestrial ecosystems.  \n 
URL:https://www.naxys.be/event/thomas-parmentier-kuleuven-unamur/
LOCATION:E25
CATEGORIES:NAXYS Seminar
END:VEVENT
END:VCALENDAR