BEGIN:VCALENDAR
VERSION:2.0
PRODID:-//Namur Institute For Complex Systems - ECPv6.15.20//NONSGML v1.0//EN
CALSCALE:GREGORIAN
METHOD:PUBLISH
X-WR-CALNAME:Namur Institute For Complex Systems
X-ORIGINAL-URL:https://www.naxys.be
X-WR-CALDESC:Events for Namur Institute For Complex Systems
REFRESH-INTERVAL;VALUE=DURATION:PT1H
X-Robots-Tag:noindex
X-PUBLISHED-TTL:PT1H
BEGIN:VTIMEZONE
TZID:Europe/Brussels
BEGIN:DAYLIGHT
TZOFFSETFROM:+0100
TZOFFSETTO:+0200
TZNAME:CEST
DTSTART:20210328T010000
END:DAYLIGHT
BEGIN:STANDARD
TZOFFSETFROM:+0200
TZOFFSETTO:+0100
TZNAME:CET
DTSTART:20211031T010000
END:STANDARD
BEGIN:DAYLIGHT
TZOFFSETFROM:+0100
TZOFFSETTO:+0200
TZNAME:CEST
DTSTART:20220327T010000
END:DAYLIGHT
BEGIN:STANDARD
TZOFFSETFROM:+0200
TZOFFSETTO:+0100
TZNAME:CET
DTSTART:20221030T010000
END:STANDARD
BEGIN:DAYLIGHT
TZOFFSETFROM:+0100
TZOFFSETTO:+0200
TZNAME:CEST
DTSTART:20230326T010000
END:DAYLIGHT
BEGIN:STANDARD
TZOFFSETFROM:+0200
TZOFFSETTO:+0100
TZNAME:CET
DTSTART:20231029T010000
END:STANDARD
END:VTIMEZONE
BEGIN:VEVENT
DTSTART;TZID=Europe/Brussels:20220224T130000
DTEND;TZID=Europe/Brussels:20220224T140000
DTSTAMP:20260422T121750
CREATED:20211207T160733Z
LAST-MODIFIED:20220210T124854Z
UID:1476-1645707600-1645711200@www.naxys.be
SUMMARY:Frederik De Laender (Université de Namur)
DESCRIPTION:The seminar will take place in person\, Room S08\, Faculty of Sciences \nTitle: Predicting the impact of environmental change on coexistence \nI introduce a new approach to study effects of regional-scale environmental change on coexistence in ecological communities. The approach is based on the concept of feasibility\, which measures how much one can change a model’s parameters while still maintaining positive species abundances.I will first present analyses in small consumer-resource communities\, and simulations results for larger communities. Together\, these analyses and simulations support the conclusion that simple summary statistics of direct species responses suffice to predict effects on the size of the feasibility domain. However\, our results also reveal that these effects critically depend on the interaction strength between consumers and resources.I will then turn to food chains\, confirming that simple summary statistics again predict environmental change effects on the size of the feasibility domain. In contrast to consumer-resource communities\, however\, these statistics do not scale up to larger food webs.I finally analyse an extensive set of field data of macroinvertebrate counts across thousands of sites along less and more polluted small streams across the USA. These analyses suggest that communities in more polluted sites can coexist across narrower environmental ranges than communities in less polluted sites.
URL:https://www.naxys.be/event/frederik-de-laender-universite-de-namur/
CATEGORIES:NAXYS Seminar
END:VEVENT
END:VCALENDAR