BEGIN:VCALENDAR
VERSION:2.0
PRODID:-//Namur Institute For Complex Systems - ECPv6.15.20//NONSGML v1.0//EN
CALSCALE:GREGORIAN
METHOD:PUBLISH
X-WR-CALNAME:Namur Institute For Complex Systems
X-ORIGINAL-URL:https://www.naxys.be
X-WR-CALDESC:Events for Namur Institute For Complex Systems
REFRESH-INTERVAL;VALUE=DURATION:PT1H
X-Robots-Tag:noindex
X-PUBLISHED-TTL:PT1H
BEGIN:VTIMEZONE
TZID:Europe/Paris
BEGIN:DAYLIGHT
TZOFFSETFROM:+0100
TZOFFSETTO:+0200
TZNAME:CEST
DTSTART:20170326T010000
END:DAYLIGHT
BEGIN:STANDARD
TZOFFSETFROM:+0200
TZOFFSETTO:+0100
TZNAME:CET
DTSTART:20171029T010000
END:STANDARD
BEGIN:DAYLIGHT
TZOFFSETFROM:+0100
TZOFFSETTO:+0200
TZNAME:CEST
DTSTART:20180325T010000
END:DAYLIGHT
BEGIN:STANDARD
TZOFFSETFROM:+0200
TZOFFSETTO:+0100
TZNAME:CET
DTSTART:20181028T010000
END:STANDARD
BEGIN:DAYLIGHT
TZOFFSETFROM:+0100
TZOFFSETTO:+0200
TZNAME:CEST
DTSTART:20190331T010000
END:DAYLIGHT
BEGIN:STANDARD
TZOFFSETFROM:+0200
TZOFFSETTO:+0100
TZNAME:CET
DTSTART:20191027T010000
END:STANDARD
END:VTIMEZONE
BEGIN:VEVENT
DTSTART;TZID=Europe/Paris:20181122T130000
DTEND;TZID=Europe/Paris:20181122T140000
DTSTAMP:20260422T193731
CREATED:20181016T113538Z
LAST-MODIFIED:20181112T140039Z
UID:495-1542891600-1542895200@www.naxys.be
SUMMARY:Alexis Coyette (UNamur)
DESCRIPTION:Title: Modeling the rotation of Titan \nAbstract: Observation of the rotation of synchronously rotating satellites can help to probe their interior. We study here the variations in rotation rate and the polar motion of Titan due to (1) the gravitational force exerted by Saturn at orbital period and (2) exchanges of angular momentum between the seasonally varying atmosphere and the solid surface. The deviation of the mass distribution from hydrostaticity can significantly increase the diurnal libration and decrease the amplitude of the seasonal libration. By including a large spectrum of atmospheric perturbations\, the smaller than synchronous rotation rate measured by Cassini in the 2004–2009 period (Meriggiola et al.\, 2016) could be explained by the atmospheric forcing. The effect of the non-hydrostatic mass distribution is less important for polar motion\, which is more sensitive to flow in the subsurface ocean. For some interior models of Titan\, the amplitude of its polar motion can be resonantly amplified. Future observations of the polar motion of Titan could help constraining some properties of its interior structure as the ice shell thickness and ocean density.
URL:https://www.naxys.be/event/alexis-coyette-unamur/
LOCATION:E25
CATEGORIES:NAXYS Seminar
END:VEVENT
END:VCALENDAR