BEGIN:VCALENDAR
VERSION:2.0
PRODID:-//Namur Institute For Complex Systems - ECPv6.15.20//NONSGML v1.0//EN
CALSCALE:GREGORIAN
METHOD:PUBLISH
X-WR-CALNAME:Namur Institute For Complex Systems
X-ORIGINAL-URL:https://www.naxys.be
X-WR-CALDESC:Events for Namur Institute For Complex Systems
REFRESH-INTERVAL;VALUE=DURATION:PT1H
X-Robots-Tag:noindex
X-PUBLISHED-TTL:PT1H
BEGIN:VTIMEZONE
TZID:Europe/Paris
BEGIN:DAYLIGHT
TZOFFSETFROM:+0100
TZOFFSETTO:+0200
TZNAME:CEST
DTSTART:20190331T010000
END:DAYLIGHT
BEGIN:STANDARD
TZOFFSETFROM:+0200
TZOFFSETTO:+0100
TZNAME:CET
DTSTART:20191027T010000
END:STANDARD
BEGIN:DAYLIGHT
TZOFFSETFROM:+0100
TZOFFSETTO:+0200
TZNAME:CEST
DTSTART:20200329T010000
END:DAYLIGHT
BEGIN:STANDARD
TZOFFSETFROM:+0200
TZOFFSETTO:+0100
TZNAME:CET
DTSTART:20201025T010000
END:STANDARD
BEGIN:DAYLIGHT
TZOFFSETFROM:+0100
TZOFFSETTO:+0200
TZNAME:CEST
DTSTART:20210328T010000
END:DAYLIGHT
BEGIN:STANDARD
TZOFFSETFROM:+0200
TZOFFSETTO:+0100
TZNAME:CET
DTSTART:20211031T010000
END:STANDARD
END:VTIMEZONE
BEGIN:VEVENT
DTSTART;TZID=Europe/Paris:20200312T130000
DTEND;TZID=Europe/Paris:20200312T140000
DTSTAMP:20260419T182905
CREATED:20200316T165354Z
LAST-MODIFIED:20200316T165501Z
UID:784-1584018000-1584021600@www.naxys.be
SUMMARY:Jérôme Daquin (UNamur)
DESCRIPTION:Title: Aspects of the secular dynamics of terrestrial orbits \nAbstract: The threat raised by space debris has vivified long-term studies of terrestrial orbits. To apprehend the motion on long time scales\, the Astrodynamics community has translated\, deployed and adapted many tools coming from Dynamical System theory and Celestial Mechanics: from the construction of effective averaged models more amenable to analytical and/or numerical investigations to the construction of resonant normal forms\, including modern dynamical chaos indicator to visualise the template of the phase-space.  Those efforts contributed to foster the `passive debris removal ideology’\, where natural perturbations are ‘surfed’ rather than `counteracted’. In this talk\, I will review and discuss some aspects of the long-term dynamics of terrestrial orbits\, especially in the range of medium altitude. I will then present recent results obtained by the author and collaborators on the 2g+h lunisolar resonance where a (normally hyperbolic) manifold structure has been identified.
URL:https://www.naxys.be/event/jerome-daquin-unamur/
LOCATION:E22
CATEGORIES:NAXYS Seminar
END:VEVENT
END:VCALENDAR